BEGIN:VCALENDAR
VERSION:2.0
PRODID:-//Brierley Hill Community Enterprise Guild - ECPv6.15.17.1//NONSGML v1.0//EN
CALSCALE:GREGORIAN
METHOD:PUBLISH
X-WR-CALNAME:Brierley Hill Community Enterprise Guild
X-ORIGINAL-URL:https://www.brierleyhillceg.org.uk
X-WR-CALDESC:Events for Brierley Hill Community Enterprise Guild
REFRESH-INTERVAL;VALUE=DURATION:PT1H
X-Robots-Tag:noindex
X-PUBLISHED-TTL:PT1H
BEGIN:VTIMEZONE
TZID:Europe/London
BEGIN:DAYLIGHT
TZOFFSETFROM:+0000
TZOFFSETTO:+0100
TZNAME:BST
DTSTART:20250330T010000
END:DAYLIGHT
BEGIN:STANDARD
TZOFFSETFROM:+0100
TZOFFSETTO:+0000
TZNAME:GMT
DTSTART:20251026T010000
END:STANDARD
BEGIN:DAYLIGHT
TZOFFSETFROM:+0000
TZOFFSETTO:+0100
TZNAME:BST
DTSTART:20260329T010000
END:DAYLIGHT
BEGIN:STANDARD
TZOFFSETFROM:+0100
TZOFFSETTO:+0000
TZNAME:GMT
DTSTART:20261025T010000
END:STANDARD
BEGIN:DAYLIGHT
TZOFFSETFROM:+0000
TZOFFSETTO:+0100
TZNAME:BST
DTSTART:20270328T010000
END:DAYLIGHT
BEGIN:STANDARD
TZOFFSETFROM:+0100
TZOFFSETTO:+0000
TZNAME:GMT
DTSTART:20271031T010000
END:STANDARD
END:VTIMEZONE
BEGIN:VEVENT
DTSTART;TZID=Europe/London:20260311T093000
DTEND;TZID=Europe/London:20260311T113000
DTSTAMP:20260419T194409
CREATED:20260305T105108Z
LAST-MODIFIED:20260309T145628Z
UID:559-1773221400-1773228600@www.brierleyhillceg.org.uk
SUMMARY:Free Ai Workshop
DESCRIPTION:Strengthen your voice. Grow your presence. Elevate your enterprise. \nThis friendly\, practical session is open to all local businesses and enterprises\, and gives you the tools and confidence to put AI to work for your business. \nThe workshop will cover: \nWhat AI is and how it works in plain\, simple terms \nHow to use AI tools to support your marketing and online presence \nPractical ways to save time and work more efficiently \nHow to communicate more clearly about your business \nGetting started with confidence \nNo prior experience needed. Just come along\, get hands-on\, and see what AI can do for you.
URL:https://www.brierleyhillceg.org.uk/event/free-ai-workshop/
LOCATION:Marina breakfast & coffee\, 7 Mill St\, Brierley Hill\, West Midlands\, DY5 2RH\, United Kingdom
ATTACH;FMTTYPE=image/jpeg:https://www.brierleyhillceg.org.uk/wp-content/uploads/2026/03/Marina.jpg
ORGANIZER;CN="Brierley Hill Community Enterprise Guild":MAILTO:info@brierleyhillceg.org.uk
END:VEVENT
END:VCALENDAR